BEGIN:VCALENDAR
VERSION:2.0
PRODID:-//Welcome to Soriano - Portale Turistico del Comune di Soriano nel Cimino - Castello Orsini - ECPv6.15.13.1//NONSGML v1.0//EN
CALSCALE:GREGORIAN
METHOD:PUBLISH
X-ORIGINAL-URL:https://welcometosoriano.it
X-WR-CALDESC:Eventi per Welcome to Soriano - Portale Turistico del Comune di Soriano nel Cimino - Castello Orsini
REFRESH-INTERVAL;VALUE=DURATION:PT1H
X-Robots-Tag:noindex
X-PUBLISHED-TTL:PT1H
BEGIN:VTIMEZONE
TZID:Europe/Rome
BEGIN:DAYLIGHT
TZOFFSETFROM:+0100
TZOFFSETTO:+0200
TZNAME:CEST
DTSTART:20250330T010000
END:DAYLIGHT
BEGIN:STANDARD
TZOFFSETFROM:+0200
TZOFFSETTO:+0100
TZNAME:CET
DTSTART:20251026T010000
END:STANDARD
BEGIN:DAYLIGHT
TZOFFSETFROM:+0100
TZOFFSETTO:+0200
TZNAME:CEST
DTSTART:20260329T010000
END:DAYLIGHT
BEGIN:STANDARD
TZOFFSETFROM:+0200
TZOFFSETTO:+0100
TZNAME:CET
DTSTART:20261025T010000
END:STANDARD
BEGIN:DAYLIGHT
TZOFFSETFROM:+0100
TZOFFSETTO:+0200
TZNAME:CEST
DTSTART:20270328T010000
END:DAYLIGHT
BEGIN:STANDARD
TZOFFSETFROM:+0200
TZOFFSETTO:+0100
TZNAME:CET
DTSTART:20271031T010000
END:STANDARD
END:VTIMEZONE
BEGIN:VEVENT
DTSTART;VALUE=DATE:20260322
DTEND;VALUE=DATE:20260323
DTSTAMP:20260424T174348
CREATED:20260316T132458Z
LAST-MODIFIED:20260316T132458Z
UID:113678-1774137600-1774223999@welcometosoriano.it
SUMMARY:Passeggiando per il Borgo: storie e leggende nel centro storico di Soriano nel Cimino
DESCRIPTION:Domenica 22 marzo 2026 alle ore 10:30 torna a Soriano nel Cimino l’iniziativa culturale “Passeggiando per il Borgo”\, una suggestiva passeggiata tra le vie del centro storico alla scoperta di storie\, tradizioni e leggende locali. \nL’evento\, organizzato dall’associazione Soriano Terzo Millennio APS\, accompagnerà i partecipanti in un viaggio nel tempo tra vicoli\, piazze e antichi racconti che hanno caratterizzato la storia del paese\, fino ad arrivare al suggestivo Castello Orsini. \nInformazioni sull’evento\n📅 Data: Domenica 22 marzo 2026⏰ Orario: ore 10:30📍 Punto di ritrovo: Ufficio Turistico – Piazza Vittorio Emanuele II📌 Luogo: Soriano nel Cimino (VT) \nL’iniziativa è gratuita e fa parte della Festa di Primavera organizzata nel borgo. \n📞 Info: 347 9666570
URL:https://welcometosoriano.it/evento/passeggiando-per-il-borgo-storie-e-leggende-nel-centro-storico-di-soriano-nel-cimino/
CATEGORIES:Evento
ATTACH;FMTTYPE=image/jpeg:https://welcometosoriano.it/wp-content/uploads/2026/03/WhatsApp-Image-2026-03-16-at-13.49.42.jpeg
END:VEVENT
BEGIN:VEVENT
DTSTART;VALUE=DATE:20260322
DTEND;VALUE=DATE:20260323
DTSTAMP:20260424T174348
CREATED:20260320T150817Z
LAST-MODIFIED:20260320T150817Z
UID:113698-1774137600-1774223999@welcometosoriano.it
SUMMARY:Briccialdi Saxorchestra
DESCRIPTION:Il Comune di Soriano nel Cimino\, in collaborazione con la Banda Musicale di Soriano nel Cimino e il Conservatorio Statale di Musica “G. Briccialdi” di Terni\, presenta un appuntamento musicale imperdibile: il concerto della Briccialdi Saxorchestra\, in programma domenica 22 marzo 2026 alle ore 18:00 presso la Chiesa di Sant’Eutizio M. \nProgramma musicale: dai classici al contemporaneo\nDurante la serata verranno eseguite musiche di grandi compositori internazionali\, tra cui: \n\n\nGeorge Gershwin \n\n\nMaurice Ravel \n\n\nManuel Palau \n\n\nRodgers & Hart \n\n\nScott Joplin \n\n\nRoberto Molinelli \n\n\nAstor Piazzolla \n\n\nUn viaggio musicale che attraversa jazz\, musica classica e sonorità moderne\, offrendo al pubblico un’esperienza unica e coinvolgente. \nA guidare l’ensemble sarà il Maestro Emiliano Rodriguez. \nDove e quando si svolge il concerto\n📍 Luogo: Chiesa di Sant’Eutizio M.\, Soriano nel Cimino (VT)📅 Data: 22 marzo 2026🕕 Orario: ore 18:00
URL:https://welcometosoriano.it/evento/briccialdi-saxorchestra/
CATEGORIES:Evento
ATTACH;FMTTYPE=image/jpeg:https://welcometosoriano.it/wp-content/uploads/2026/03/WhatsApp-Image-2026-03-20-at-15.36.29.jpeg
END:VEVENT
BEGIN:VEVENT
DTSTART;TZID=Europe/Rome:20260322T103000
DTEND;TZID=Europe/Rome:20260322T183000
DTSTAMP:20260424T174348
CREATED:20260316T133207Z
LAST-MODIFIED:20260316T133207Z
UID:113686-1774175400-1774204200@welcometosoriano.it
SUMMARY:
DESCRIPTION:Festa di Primavera a Soriano nel Cimino: artigianato\, musica e street food\nDomenica 22 marzo 2026\, il suggestivo Castello Orsini di Soriano nel Cimino ospiterà la Festa di Primavera\, un evento dedicato all’artigianato\, alla cultura e alle tradizioni locali. \nProtagonista della giornata sarà il mercatino artistico “Gli Artigiani del Castello”\, che riunirà creativi\, artigiani e artisti provenienti dal territorio. \nUn evento per tutta la famiglia\nLa Festa di Primavera offrirà numerose attività durante tutta la giornata! \nUn evento pensato per coinvolgere famiglie\, turisti e visitatori alla scoperta del patrimonio culturale di Soriano nel Cimino. \nInformazioni sull’evento\n📅 Data: Domenica 22 marzo 2026⏰ Orario: dalle 10:30 alle 18:30📍 Luogo: Castello Orsini – Soriano nel Cimino (VT)
URL:https://welcometosoriano.it/evento/113686/
CATEGORIES:Evento
ATTACH;FMTTYPE=image/jpeg:https://welcometosoriano.it/wp-content/uploads/2026/03/WhatsApp-Image-2026-03-12-at-17.23.07.jpeg
END:VEVENT
END:VCALENDAR