BEGIN:VCALENDAR
VERSION:2.0
PRODID:-//Welcome to Soriano - Portale Turistico del Comune di Soriano nel Cimino - Castello Orsini - ECPv6.15.13.1//NONSGML v1.0//EN
CALSCALE:GREGORIAN
METHOD:PUBLISH
X-WR-CALNAME:Welcome to Soriano - Portale Turistico del Comune di Soriano nel Cimino - Castello Orsini
X-ORIGINAL-URL:https://welcometosoriano.it
X-WR-CALDESC:Eventi per Welcome to Soriano - Portale Turistico del Comune di Soriano nel Cimino - Castello Orsini
REFRESH-INTERVAL;VALUE=DURATION:PT1H
X-Robots-Tag:noindex
X-PUBLISHED-TTL:PT1H
BEGIN:VTIMEZONE
TZID:Europe/Rome
BEGIN:DAYLIGHT
TZOFFSETFROM:+0100
TZOFFSETTO:+0200
TZNAME:CEST
DTSTART:20250330T010000
END:DAYLIGHT
BEGIN:STANDARD
TZOFFSETFROM:+0200
TZOFFSETTO:+0100
TZNAME:CET
DTSTART:20251026T010000
END:STANDARD
BEGIN:DAYLIGHT
TZOFFSETFROM:+0100
TZOFFSETTO:+0200
TZNAME:CEST
DTSTART:20260329T010000
END:DAYLIGHT
BEGIN:STANDARD
TZOFFSETFROM:+0200
TZOFFSETTO:+0100
TZNAME:CET
DTSTART:20261025T010000
END:STANDARD
BEGIN:DAYLIGHT
TZOFFSETFROM:+0100
TZOFFSETTO:+0200
TZNAME:CEST
DTSTART:20270328T010000
END:DAYLIGHT
BEGIN:STANDARD
TZOFFSETFROM:+0200
TZOFFSETTO:+0100
TZNAME:CET
DTSTART:20271031T010000
END:STANDARD
END:VTIMEZONE
BEGIN:VEVENT
DTSTART;VALUE=DATE:20260425
DTEND;VALUE=DATE:20260426
DTSTAMP:20260425T181750
CREATED:20260327T162110Z
LAST-MODIFIED:20260327T162110Z
UID:113705-1777075200-1777161599@welcometosoriano.it
SUMMARY:🎸 𝐒𝐎𝐑𝐈𝐀𝐍𝐎 𝐉𝐀𝐙𝐙 𝐈𝐍𝐒𝐓𝐈𝐓𝐔𝐓𝐄 – 𝐀𝐌𝐄𝐑𝐈𝐂𝐀𝐍 𝐂𝐎𝐔𝐍𝐓𝐑𝐘 & 𝐁𝐋𝐔𝐄𝐒
DESCRIPTION:🎶 Una notte tra country e blues… con vista Soriano nel Cimino.\n\n\n \n\n\nAtmosfere calde\, suoni autentici e grandi classici della musica americana: da Johnny Cash a Elvis\, passando per Stevie Ray Vaughan.\n\n\n \n\n\nSul palco:\n\n\n🎻 Zeneba Bowers\n\n\n🎸 Matt Walker\n\n\n \n\n\n📅 Sabato 25 Aprile\n\n\n⏰ Ore 21:00\n\n\n📍 Ex sala consiliare – Soriano nel Cimino\n\n\n \n\n\n✨ Un viaggio musicale tra emozione e tradizione.\n\n\n🎟 Biglietto: €5 (gratis soci SJI e under 18)\n\n\n \n\n\n👉 Prenotazione consigliata
URL:https://welcometosoriano.it/evento/%f0%9f%8e%b8-%f0%9d%90%92%f0%9d%90%8e%f0%9d%90%91%f0%9d%90%88%f0%9d%90%80%f0%9d%90%8d%f0%9d%90%8e-%f0%9d%90%89%f0%9d%90%80%f0%9d%90%99%f0%9d%90%99-%f0%9d%90%88%f0%9d%90%8d%f0%9d%90%92%f0%9d%90%93/
CATEGORIES:Evento
ATTACH;FMTTYPE=image/jpeg:https://welcometosoriano.it/wp-content/uploads/2026/03/WhatsApp-Image-2026-03-27-at-16.56.18.jpeg
END:VEVENT
BEGIN:VEVENT
DTSTART;VALUE=DATE:20260509
DTEND;VALUE=DATE:20260510
DTSTAMP:20260425T181750
CREATED:20260316T133604Z
LAST-MODIFIED:20260316T133604Z
UID:113688-1778284800-1778371199@welcometosoriano.it
SUMMARY:Concerto della Soriano Youth Jazz Band al Teatro Florida
DESCRIPTION:Sabato 9 maggio 2026 alle ore 20:30\, il Teatro Florida di Soriano nel Cimino ospiterà il secondo concerto di fine anno della Soriano Youth Jazz Band. \nL’evento è organizzato dal Soriano Jazz Institute in collaborazione con l’Istituto Comprensivo Ernesto Monaci. \nGiovani talenti e grandi musicisti\nIl concerto vedrà protagonisti i giovani musicisti dell’istituto insieme a importanti artisti della scena jazz: \n\n\nAlessandro Bravo \n\n\nFrancesco Desiato \n\n\nAngelo Lazzeri \n\n\nEnrico Mianulli \n\n\nGiacomo Pieri \n\n\nPete Swan \n\n\nUn’occasione speciale per valorizzare il talento musicale dei ragazzi e promuovere la musica jazz tra le nuove generazioni. \nInformazioni sul concerto\n📅 Data: 9 maggio 2026⏰ Orario: 20:30📍 Luogo: Teatro Florida – Soriano nel Cimino (VT) \n📞 Prenotazione obbligatoria: 377 305 2699
URL:https://welcometosoriano.it/evento/concerto-della-soriano-youth-jazz-band-al-teatro-florida/
CATEGORIES:Evento
ATTACH;FMTTYPE=image/jpeg:https://welcometosoriano.it/wp-content/uploads/2026/03/WhatsApp-Image-2026-03-12-at-17.23.12.jpeg
END:VEVENT
END:VCALENDAR