BEGIN:VCALENDAR
VERSION:2.0
PRODID:-//Welcome to Soriano - Portale Turistico del Comune di Soriano nel Cimino - Castello Orsini - ECPv6.15.13.1//NONSGML v1.0//EN
CALSCALE:GREGORIAN
METHOD:PUBLISH
X-ORIGINAL-URL:https://welcometosoriano.it
X-WR-CALDESC:Eventi per Welcome to Soriano - Portale Turistico del Comune di Soriano nel Cimino - Castello Orsini
REFRESH-INTERVAL;VALUE=DURATION:PT1H
X-Robots-Tag:noindex
X-PUBLISHED-TTL:PT1H
BEGIN:VTIMEZONE
TZID:Europe/Rome
BEGIN:DAYLIGHT
TZOFFSETFROM:+0100
TZOFFSETTO:+0200
TZNAME:CEST
DTSTART:20240331T010000
END:DAYLIGHT
BEGIN:STANDARD
TZOFFSETFROM:+0200
TZOFFSETTO:+0100
TZNAME:CET
DTSTART:20241027T010000
END:STANDARD
BEGIN:DAYLIGHT
TZOFFSETFROM:+0100
TZOFFSETTO:+0200
TZNAME:CEST
DTSTART:20250330T010000
END:DAYLIGHT
BEGIN:STANDARD
TZOFFSETFROM:+0200
TZOFFSETTO:+0100
TZNAME:CET
DTSTART:20251026T010000
END:STANDARD
BEGIN:DAYLIGHT
TZOFFSETFROM:+0100
TZOFFSETTO:+0200
TZNAME:CEST
DTSTART:20260329T010000
END:DAYLIGHT
BEGIN:STANDARD
TZOFFSETFROM:+0200
TZOFFSETTO:+0100
TZNAME:CET
DTSTART:20261025T010000
END:STANDARD
END:VTIMEZONE
BEGIN:VEVENT
DTSTART;TZID=Europe/Rome:20250802T213000
DTEND;TZID=Europe/Rome:20250802T233000
DTSTAMP:20260425T052739
CREATED:20250731T132902Z
LAST-MODIFIED:20250731T132902Z
UID:113356-1754170200-1754177400@welcometosoriano.it
SUMMARY:Band "Discover"
DESCRIPTION:L’estate a Soriano nel Cimino si accende con il Discover Tour 2025! \nSabato 2 agosto\, dalle 21:30 in Piazza Vittorio Emanuele II\, preparati a ballare e cantare sulle note delle hit più amate degli anni ’70\, ’80 e ’90. \nUn viaggio musicale sotto le stelle\, gratuito e aperto a tutti\, organizzato dalla Pro Loco di Soriano con il patrocinio del Comune. \nNon perdere l’occasione di vivere una serata di musica\, divertimento e atmosfera retrò nel cuore della Tuscia.
URL:https://welcometosoriano.it/evento/band-discover/
CATEGORIES:Festa
ATTACH;FMTTYPE=image/jpeg:https://welcometosoriano.it/wp-content/uploads/2025/07/discover-2-agosto-.jpg
END:VEVENT
BEGIN:VEVENT
DTSTART;TZID=Europe/Rome:20250802T200000
DTEND;TZID=Europe/Rome:20250802T233000
DTSTAMP:20260425T052739
CREATED:20250716T131904Z
LAST-MODIFIED:20250716T132456Z
UID:113280-1754164800-1754177400@welcometosoriano.it
SUMMARY:Wide Fest
DESCRIPTION:Il 2 agosto 2025\, Largo Berlinguer a Soriano nel Cimino si trasforma nel cuore pulsante del divertimento con il Wide Fest\, l’evento estivo organizzato dall’associazione Soriano Giovani. \nUna serata pensata per i giovani (e non solo)\, con musica dal vivo\, DJ set\, stand di street food\, drink e un’atmosfera energica e coinvolgente. L’ingresso è gratuito e l’inizio è previsto per le ore 20:00. \nCi sarà Daniele Ceccarini\, che animerà il palco con una performance esplosiva. \nDettagli dell’evento:Data: Venerdì 2 agosto 2025Luogo: Largo Berlinguer – Soriano nel Cimino (VT)Orario di inizio: Ore 20:00
URL:https://welcometosoriano.it/evento/wide-fest/
CATEGORIES:Festa
ATTACH;FMTTYPE=image/jpeg:https://welcometosoriano.it/wp-content/uploads/2025/07/2agosto2-wide-fest.jpg
END:VEVENT
BEGIN:VEVENT
DTSTART;TZID=Europe/Rome:20250801T230000
DTEND;TZID=Europe/Rome:20250802T040000
DTSTAMP:20260425T052739
CREATED:20250716T131131Z
LAST-MODIFIED:20250716T131131Z
UID:113277-1754089200-1754107200@welcometosoriano.it
SUMMARY:Pool Night Party
DESCRIPTION:Venerdì 1 agosto 2025\, la piscina dello Sporting Village di Soriano nel Cimino ospiterà un evento esclusivo dedicato al pubblico adulto: il Pool Night Party\, una serata all’insegna del divertimento\, della musica e dei bagni notturni. \nL’evento\, promosso dall’Associazione COST con il patrocinio del Comune di Soriano nel Cimino e in collaborazione con lo Sporting Village\, prenderà il via alle ore 23:00. A curare la colonna sonora della serata sarà il DJ Andrea Soprani\, con un set pensato per accompagnare i partecipanti per tutta la notte. \nL’ingresso è riservato ai soli maggiorenni e i posti sono limitati\, per garantire un’esperienza piacevole e sicura. Durante tutta la serata sarà possibile accedere alla piscina e vivere un’esperienza unica in un’atmosfera suggestiva e coinvolgente.
URL:https://welcometosoriano.it/evento/pool-night-party/
CATEGORIES:Festa
ATTACH;FMTTYPE=image/jpeg:https://welcometosoriano.it/wp-content/uploads/2025/07/Immagine-WhatsApp-2025-07-16-ore-14.09.02_49a63893.jpg
END:VEVENT
BEGIN:VEVENT
DTSTART;TZID=Europe/Rome:20250731T190000
DTEND;TZID=Europe/Rome:20250803T220000
DTSTAMP:20260425T052739
CREATED:20250708T094721Z
LAST-MODIFIED:20250708T094721Z
UID:113248-1753988400-1754258400@welcometosoriano.it
SUMMARY:Festa della Bistecca
DESCRIPTION:Anche quest’anno l’estate sorianese si accende con la Festa della Bistecca\, appuntamento imperdibile per gli amanti della buona cucina e delle tradizioni locali. \nLa 22ª edizione\, organizzata dall’Associazione Volontari Santarello 2.0\, propone sei serate all’insegna del gusto\, del divertimento e della convivialità. \nNei giorni 26\, 27\, 31 luglio e 1\, 2\, 3 agosto\, sarà possibile gustare ottime bistecche alla brace e altre specialità\, con la possibilità di menù fisso\, il tutto in un’atmosfera accogliente e familiare.
URL:https://welcometosoriano.it/evento/festa-della-bistecca-2/
CATEGORIES:Festa
ATTACH;FMTTYPE=image/jpeg:https://welcometosoriano.it/wp-content/uploads/2025/07/26-27-31-1-2-3-festa-della-bistecca.jpg
END:VEVENT
BEGIN:VEVENT
DTSTART;TZID=Europe/Rome:20250726T190000
DTEND;TZID=Europe/Rome:20250727T220000
DTSTAMP:20260425T052739
CREATED:20250708T094553Z
LAST-MODIFIED:20250708T094553Z
UID:113245-1753556400-1753653600@welcometosoriano.it
SUMMARY:Festa della Bistecca
DESCRIPTION:Anche quest’anno l’estate sorianese si accende con la Festa della Bistecca\, appuntamento imperdibile per gli amanti della buona cucina e delle tradizioni locali. \nLa 22ª edizione\, organizzata dall’Associazione Volontari Santarello 2.0\, propone sei serate all’insegna del gusto\, del divertimento e della convivialità. \nNei giorni 26\, 27\, 31 luglio e 1\, 2\, 3 agosto\, sarà possibile gustare ottime bistecche alla brace e altre specialità\, con la possibilità di menù fisso\, il tutto in un’atmosfera accogliente e familiare.
URL:https://welcometosoriano.it/evento/festa-della-bistecca/
CATEGORIES:Festa
ATTACH;FMTTYPE=image/jpeg:https://welcometosoriano.it/wp-content/uploads/2025/07/26-27-31-1-2-3-festa-della-bistecca.jpg
END:VEVENT
BEGIN:VEVENT
DTSTART;TZID=Europe/Rome:20250726T190000
DTEND;TZID=Europe/Rome:20250727T030000
DTSTAMP:20260425T052739
CREATED:20250721T140252Z
LAST-MODIFIED:20250721T140252Z
UID:113308-1753556400-1753585200@welcometosoriano.it
SUMMARY:Notte Bianca 2025
DESCRIPTION:Torna l’attesissima Notte Bianca di Soriano nel Cimino\, sabato 26 luglio 2025\, dalle 19:00 fino alle 3:00 del mattino! Una lunga serata all’insegna della musica dal vivo\, dei DJ set\, della buona cucina e del divertimento per tutte le età. \nLe vie e le piazze del centro storico si trasformeranno in un grande palcoscenico a cielo aperto: cover band\, spettacoli itineranti\, postazioni gastronomiche e punti musica accompagneranno i visitatori in un’esperienza coinvolgente e festosa\, pensata per grandi e piccoli. \nAnche quest’anno sarà possibile cenare sotto le stelle\, grazie alla presenza di stand e attività gastronomiche locali che proporranno piatti della tradizione sorianese\, street food e degustazioni. Non mancheranno le sorprese\, con animazione\, performance artistiche e disco music fino a notte fonda. \n\n“È in arrivo una Notte Bianca strepitosa con tanta musica\, buona cucina e l’attesissima discoteca sotto le stelle – dichiarano il Sindaco Roberto Camilli e l’Assessore ai grandi eventi Francesco Marzoli – Siamo certi che\, come le edizioni precedenti\, anche la Notte Bianca 2025 porterà a Soriano tantissimi visitatori. Un evento che è possibile realizzare grazie alla sinergia con le associazioni locali.” \n\n Appuntamento sabato 26 luglio – Cover band – DJ set – Food – Intrattenimento \nNon mancate!
URL:https://welcometosoriano.it/evento/notte-bianca-2025/
CATEGORIES:Evento,Festa
ATTACH;FMTTYPE=image/jpeg:https://welcometosoriano.it/wp-content/uploads/2025/07/notte-bianca-vera.jpg
END:VEVENT
BEGIN:VEVENT
DTSTART;TZID=Europe/Rome:20250720T213000
DTEND;TZID=Europe/Rome:20250720T233000
DTSTAMP:20260425T052739
CREATED:20250708T095606Z
LAST-MODIFIED:20250708T095606Z
UID:113250-1753047000-1753054200@welcometosoriano.it
SUMMARY:Free Road Blues Band
DESCRIPTION:Una serata da non perdere per tutti gli amanti della musica dal vivo: domenica 20 luglio\, nella splendida cornice di Piazza Vittorio Emanuele II\, arriva il sound energico della Free Road Blues Band. \nUn viaggio musicale tra blues\, rock e soul con uno dei gruppi più apprezzati del territorio\, per un concerto che promette ritmo\, emozione e grande atmosfera. \nL’evento è a ingresso libero!
URL:https://welcometosoriano.it/evento/free-road-blues-band/
CATEGORIES:Festa
ATTACH;FMTTYPE=image/jpeg:https://welcometosoriano.it/wp-content/uploads/2025/07/20luglio-freeroad-blues.jpg
END:VEVENT
BEGIN:VEVENT
DTSTART;VALUE=DATE:20250718
DTEND;VALUE=DATE:20250719
DTSTAMP:20260425T052739
CREATED:20250717T143730Z
LAST-MODIFIED:20250717T143730Z
UID:113283-1752796800-1752883199@welcometosoriano.it
SUMMARY:DJ Set – Young Music
DESCRIPTION:Il cuore dell’estate si accende a Soriano nel Cimino con una serata imperdibile: venerdì 18 luglio alle ore 22:00 arriva “DJ Set – Young Music” con DJ Bolle & The Voice\, nel suggestivo scenario del Piazzale della Repubblica (Giardinetti). \nUna notte di musica\, divertimento e energia dedicata ai giovani e a tutti gli amanti dei DJ set live. L’evento è a ingresso gratuito! \n📍 Soriano nel Cimino\, Viterbo📅 Venerdì 18 luglio – 🕙 Ore 22:00🎧 DJ Bolle & The Voice🎟️ Ingresso libero \nMusica\, estate e divertimento: a Soriano si balla sotto le stelle!
URL:https://welcometosoriano.it/evento/dj-set-young-music/
CATEGORIES:Festa
ATTACH;FMTTYPE=image/png:https://welcometosoriano.it/wp-content/uploads/2025/07/Copia-di-Post-di-Instagram-Minimalista-Citazione-Beige-e-Grigio1.png
END:VEVENT
BEGIN:VEVENT
DTSTART;VALUE=DATE:20250704
DTEND;VALUE=DATE:20250706
DTSTAMP:20260425T052739
CREATED:20250523T141912Z
LAST-MODIFIED:20250626T135516Z
UID:113064-1751587200-1751759999@welcometosoriano.it
SUMMARY:Soriano Street Fest
DESCRIPTION:🎉 L’ATTESA È FINITA!\nSegnate le date: 4 e 5 luglio 2025 torna il Soriano Street Fest! 🎶🍔🍹 \nDue giorni esplosivi nel cuore di Soriano nel Cimino (VT)\, tra cibo da strada\, musica live\, drink freschissimi e sorprese imperdibili.\nLa festa dell’estate è pronta a conquistarti! \n🔥 Street food\n🎧 DJ set & live music\n🍻 Drink & cocktail\n🎁 Giochi\, intrattenimento e molto altro! \nNon prendere impegni… il divertimento ti aspetta!
URL:https://welcometosoriano.it/evento/soriano-street-fest/
CATEGORIES:Festa
ATTACH;FMTTYPE=image/jpeg:https://welcometosoriano.it/wp-content/uploads/2025/05/Immagine-WhatsApp-2025-05-23-ore-13.43.05_63110bf7.jpg
END:VEVENT
END:VCALENDAR