BEGIN:VCALENDAR
VERSION:2.0
PRODID:-//Welcome to Soriano - Portale Turistico del Comune di Soriano nel Cimino - Castello Orsini - ECPv6.15.13.1//NONSGML v1.0//EN
CALSCALE:GREGORIAN
METHOD:PUBLISH
X-WR-CALNAME:Welcome to Soriano - Portale Turistico del Comune di Soriano nel Cimino - Castello Orsini
X-ORIGINAL-URL:https://welcometosoriano.it
X-WR-CALDESC:Eventi per Welcome to Soriano - Portale Turistico del Comune di Soriano nel Cimino - Castello Orsini
REFRESH-INTERVAL;VALUE=DURATION:PT1H
X-Robots-Tag:noindex
X-PUBLISHED-TTL:PT1H
BEGIN:VTIMEZONE
TZID:Europe/Rome
BEGIN:DAYLIGHT
TZOFFSETFROM:+0100
TZOFFSETTO:+0200
TZNAME:CEST
DTSTART:20250330T010000
END:DAYLIGHT
BEGIN:STANDARD
TZOFFSETFROM:+0200
TZOFFSETTO:+0100
TZNAME:CET
DTSTART:20251026T010000
END:STANDARD
BEGIN:DAYLIGHT
TZOFFSETFROM:+0100
TZOFFSETTO:+0200
TZNAME:CEST
DTSTART:20260329T010000
END:DAYLIGHT
BEGIN:STANDARD
TZOFFSETFROM:+0200
TZOFFSETTO:+0100
TZNAME:CET
DTSTART:20261025T010000
END:STANDARD
BEGIN:DAYLIGHT
TZOFFSETFROM:+0100
TZOFFSETTO:+0200
TZNAME:CEST
DTSTART:20270328T010000
END:DAYLIGHT
BEGIN:STANDARD
TZOFFSETFROM:+0200
TZOFFSETTO:+0100
TZNAME:CET
DTSTART:20271031T010000
END:STANDARD
END:VTIMEZONE
BEGIN:VEVENT
DTSTART;TZID=Europe/Rome:20260605T080000
DTEND;TZID=Europe/Rome:20260607T170000
DTSTAMP:20260424T173056
CREATED:20260123T133427Z
LAST-MODIFIED:20260123T133427Z
UID:113650-1780646400-1780851600@welcometosoriano.it
SUMMARY:Fantasy Castle Soriano
DESCRIPTION:Fantasy Castle Soriano nasce con l’obiettivo di valorizzare il patrimonio storico e culturale di Soriano nel Cimino attraverso una narrazione fantastica capace di coinvolgere il pubblico in modo emozionale e partecipativo. Il Castello Orsini diventa così il palcoscenico naturale di storie\, avventure e spettacoli. \nIl programma prevede numerose attività\, tra cui: \n\nCosplay Contest\nArea Comics & Games\nPhotoset tematici\nArea a tema fantasy\nAnimazione per bambini\nConcerti e spettacoli dal vivo\n\nDate\, luogo e informazioni utili\n📍 Luogo: Castello Orsini – Soriano nel Cimino (VT) 📅 Date: 5 – 6 – 7 giugno 2026 \nPer informazioni e aggiornamenti: \n\n📧 fantasycastleeventi@gmail.com\n📞 +39 377 3965418\n🌐 Social ufficiali: Fantasy Castle Soriano\n\n  \nUn appuntamento imperdibile per chi ama il fantasy e per chi desidera vivere il Castello Orsini in una veste completamente nuova.
URL:https://welcometosoriano.it/evento/fantasy-castle-soriano/
CATEGORIES:fiabe
ATTACH;FMTTYPE=image/jpeg:https://welcometosoriano.it/wp-content/uploads/2026/01/WhatsApp-Image-2026-01-20-at-16.38.38-1.jpeg
END:VEVENT
END:VCALENDAR